BEGIN:VCALENDAR
VERSION:2.0
PRODID:-//Heilpraktiker München - Solln - ECPv6.15.20//NONSGML v1.0//EN
CALSCALE:GREGORIAN
METHOD:PUBLISH
X-WR-CALNAME:Heilpraktiker München - Solln
X-ORIGINAL-URL:https://heilpraktikerinsolln.com
X-WR-CALDESC:Veranstaltungen für Heilpraktiker München - Solln
REFRESH-INTERVAL;VALUE=DURATION:PT1H
X-Robots-Tag:noindex
X-PUBLISHED-TTL:PT1H
BEGIN:VTIMEZONE
TZID:Europe/Berlin
BEGIN:DAYLIGHT
TZOFFSETFROM:+0100
TZOFFSETTO:+0200
TZNAME:CEST
DTSTART:20240331T010000
END:DAYLIGHT
BEGIN:STANDARD
TZOFFSETFROM:+0200
TZOFFSETTO:+0100
TZNAME:CET
DTSTART:20241027T010000
END:STANDARD
BEGIN:DAYLIGHT
TZOFFSETFROM:+0100
TZOFFSETTO:+0200
TZNAME:CEST
DTSTART:20250330T010000
END:DAYLIGHT
BEGIN:STANDARD
TZOFFSETFROM:+0200
TZOFFSETTO:+0100
TZNAME:CET
DTSTART:20251026T010000
END:STANDARD
BEGIN:DAYLIGHT
TZOFFSETFROM:+0100
TZOFFSETTO:+0200
TZNAME:CEST
DTSTART:20260329T010000
END:DAYLIGHT
BEGIN:STANDARD
TZOFFSETFROM:+0200
TZOFFSETTO:+0100
TZNAME:CET
DTSTART:20261025T010000
END:STANDARD
END:VTIMEZONE
BEGIN:VEVENT
DTSTART;TZID=Europe/Berlin:20250613T160000
DTEND;TZID=Europe/Berlin:20250615T160000
DTSTAMP:20260423T012823
CREATED:20250512T101328Z
LAST-MODIFIED:20250512T102730Z
UID:945-1749830400-1750003200@heilpraktikerinsolln.com
SUMMARY:Chakren Kurs
DESCRIPTION:Ein gesunder Mensch hat viel Lebenskraft\nUnd Deshalb der Chakren Kurs \nWir lernen für jedes Chakra : \n\nwelche Gesundheitlichen Themen jeweils zugeordnet sind\,\nwelche Psychischen Themen zu welchem Chakra gehören\,\nmit welchen Düften oder Gewürzen man das jeweilige Chakra ansprechen kann und\nGanz wichtig: Wie Ihr Euch selber aus vielen Schräglagen befreien könnt und wie Ihr wieder Eure Mitte findet.\n\nKurz gesagt ein gutes Handwerkszeug\, um sich selbst zu helfen. \nDas Wochenende umfasst 7 Einheiten \nFreitag den 13.06.2025 von 16.00 Uhr bis ca. 22.00 Uhr.\nSamstag den 14.06.2025 von 09.00 Uhr bis ca. 21.00 Uhr\nSonntag den 15.06.2025 von 10.00 Uhr bis 16.00 Uhr. \nNatürlich werden wir genügend Pausen machen. \nErfreulich: Ihr werdet sehr viel Energie tanken!  \nDer Kurs kostet 480.- Euro und für Wiederholer 320.- Euro \n\n\n\n\n\n\nE-Mail-Adresse\n\n	Name *\n	\n					\n\n\n	Telefonnummer *\n	\n					\n\n\n	E-Mail *\n	\n					\n\n\n	Personenanzahl *\n	\n		\n							\n			\n			1		\n			\n\n\n	Kontakterlaubnis\n	\n											\n				\n                \n                            \n                    Ich bin damit einverstanden\, dass ich wegen der Bestätigung der Teilnahme kontaktiert werde. Die Anmeldung ist verbindlich.  Vereinbarte Termine müssen mindestens 48 Stunden vorher abgesagt werden\, andernfalls wird die Gebühr fällig.                \n\n                					\n											\n\n\n\n	\n\n\n	\n\n\n\n  \n 
URL:https://heilpraktikerinsolln.com/veranstaltungen/chakren-kurs/
LOCATION:Heilpraxis in Solln\, Grünbauerstr.36\, München\, Bayern\, 81479\, Deutschland
END:VEVENT
END:VCALENDAR